BEGIN:VCALENDAR
VERSION:2.0
PRODID:-//wp-events-plugin.com//7.2.3.1//EN
TZID:Europe/Berlin
X-WR-TIMEZONE:Europe/Berlin
BEGIN:VEVENT
UID:213@nef.franks-bahnseiten.de
DTSTART;TZID=Europe/Berlin:20230311T101500
DTEND;TZID=Europe/Berlin:20230311T120000
DTSTAMP:20230124T101328Z
URL:https://nef.franks-bahnseiten.de/events/besichtigung-des-albrecht-duer
 er-airport-nuernberg/
SUMMARY:Besichtigung des Albrecht Dürer Airport Nürnberg
DESCRIPTION:&nbsp\;\n\nLiebe Eisenbahnfreunde\,\nam Vormittag der Mitgliede
 rversammlung laden wir zu einer Führung und Busrundfahrt über den Albrec
 ht Dürer Airport Nürnberg ein. Sie erreichen den Flughafen direkt mit de
 r U-Bahnlinie U 2.\nNeben der Eisenbahn\, dem Individual- und Schifffahrts
 verkehr ist der Flughafen Nürnberg ein bedeutender Verkehrsträger im Per
 sonen- und Frachtverkehr in der Metropolregion Nürnberg.\n\n[caption id="
 attachment_6288" align="aligncenter" width="1024"] Bild: Airport Nürnberg
 [/caption]\n\nDie Führung mit Busrundfahrt beginnt um 10.30 Uhr und dauer
 t ca. 90 Minuten.\nTreffpunkt ist um 10.15 Uhr vor dem Tor 1 (Tor 1 liegt 
 auf der rechten Seite der Abflughalle\, siehe Lageplan rote Markierung).\n
 \n[caption id="attachment_6291" align="aligncenter" width="1024"] Lageplan
  Flughafen: Tor 1 rote Markierung  (Quelle Airport Nürnberg)[/caption]\n
 \nAnmeldeschluss ist der 20. Februar 2023. \n\nErwachsene Teilnehmer benö
 tigen zur Besichtigung einen Personalausweis oder Reisepass.\nKinder und J
 ugendliche benötigen keine Personaldokumente.\nBitte keine Waffen\, Messe
 r\, Pfeffersprays oder ähnliche Gegenstände mitführen.\nDas Fotografier
 en und Filmen ist während der Flughafenrundfahrt möglich.\n\nDer Teilneh
 merpreis beträgt für Mitglieder Nürnberger Eisenbahnfreunde e. V. und d
 er Partnervereine MEC\, Freunde der Nürnberg-Fürther Straßenbahn e. V.\
 , FME und ZEF 10\,00 €.\n\nFür Gäste beträgt der Teilnehmerpreis 15\,
 00 €.\n\nKinder und Jugendliche bis zum vollendeten 18. Lebensjahr zahle
 n 5\,00 €.\n\nAnmeldung an Nürnberger Eisenbahnfreunde \, Claudia Mruga
 lla\, Spalter Str. 3\, 91183 Abenberg oder per Email an claudia.mrugalla@n
 ef-online.de \n\nDie NEF-Mitgliederversammlung 2023 beginnt dann um 14.00 
 Uhr im Vereinslokal Gaststätte TSV Falkenheim Germersheimer Str. 86\, 904
 69 Nürnberg. Vor der Mitgliederversammlung können Sie dort zu Mittag ess
 en.\n\nBitte überweisen Sie den Teilnehmerbeitrag bis spätestens zum 20.
  Februar 2023 auf das Konto der Nürnberger Eisenbahnfreunde bei der Postb
 ank Nürnberg\nIBAN DE85 7601 0085 0133 1658 53.\n\nAus organisatorischen 
 Gründen sind bei der Führung selbst keine Barzahlungen möglich. Es wird
  keine gesonderte Anmeldebestätigung versandt.\n\nBei Rückfragen stehe i
 ch Ihnen unter 0911 / 64 94 778 gerne zur Verfügung.\nWir bitten Sie\, di
 e Anweisungen der Reiseleitung und des Flughafenpersonals zu befolgen. Fü
 r Unfälle aus Unvorsichtigkeit und Fahrlässigkeit müssen sowohl die Nü
 rnberger Eisenbahnfreunde e. V. als auch der Albrecht Dürer Airport jegli
 che Haftung ablehnen.\nEs gelten die Richtlinien des Albrecht Dürer Airpo
 rt Nürnberg.\nWir freuen uns auf eine zahlreiche Teilnahme.\nGäste sind 
 zu dieser Flughafenführung herzlich willkommen.\n\nMit freundlichen Grü
 ßen\n\nRaimund Scheder\n1. Vorsitzender\n\nDownload Infoblatt und Anmelde
 formular
CATEGORIES:Exkursion
LOCATION:Flughafen Nürnberg\, Flughafenstrasse 100\, Nürnberg\, Bayern\, 
 90411\, Deutschland\, 
GEO:49.494674;11.078973
X-APPLE-STRUCTURED-LOCATION;VALUE=URI;X-ADDRESS=Flughafenstrasse 100\, Nür
 nberg\, Bayern\, 90411\, Deutschland;X-APPLE-RADIUS=100;X-TITLE=Flughafen 
 Nürnberg:geo:49.494674,11.078973
END:VEVENT
BEGIN:VTIMEZONE
TZID:Europe/Berlin
X-LIC-LOCATION:Europe/Berlin
BEGIN:STANDARD
DTSTART:20221030T020000
TZOFFSETFROM:+0200
TZOFFSETTO:+0100
TZNAME:CET
END:STANDARD
END:VTIMEZONE
END:VCALENDAR