BEGIN:VCALENDAR
VERSION:2.0
PRODID:-//wp-events-plugin.com//7.2.3.1//EN
TZID:Europe/Berlin
X-WR-TIMEZONE:Europe/Berlin
BEGIN:VEVENT
UID:134@nef.franks-bahnseiten.de
DTSTART;TZID=Europe/Berlin:20220625T101500
DTEND;TZID=Europe/Berlin:20220625T120000
DTSTAMP:20220524T010927Z
URL:https://nef.franks-bahnseiten.de/events/fuehrung-im-bereich-sammlungen
 -bibliothek-des-db-museum-nuernberg/
SUMMARY:Führung im Bereich Sammlungen / Bibliothek des DB-Museum Nürnberg
DESCRIPTION:\n\n\n\nLiebe Eisenbahnfreunde\,\n\nam Vormittag der Mitglieder
 versammlung laden wir zu einer Führung in den Bereich Sammlungen / Bibli
 othek des DB-Museum Nürnberg\, Lessingstraße 6 ein. Dieser Bereich ist 
 den meisten Besuchern des DB-Museums unbekannt\, da er normalerweise nicht
  besichtigt werden kann. Die in den Ausstellungsräumen gezeigten Objekte
  und Dokumente machen nur einen Bruchteil der Sammlungsbestände aus.\n\n
 Das Archiv des DB Museums umfasst mehr als 2.500 Regalmeter mit Dokumenten
 \, Betriebsbüchern\, Bauplänen\, Fahrkarten\, Gleisplänen\, Grafiken
 \, Kursbüchern und Plakaten. Fahrzeugteile\, Schilder\, Werkzeuge und Un
 iformen zählen ebenso dazu wie Reisegegenstände\, Speisewagengeschirr\
 , Werbemittel und Kunst.\n\nÜber 1\,5 Millionen Fotos dokumentieren auf 
 Glasplatten\, Dias\, Negativen oder Abzügen deutsche Eisenbahngeschichte
 . Rund 5.000 Titel umfasst die Filmsammlung.\n\nTreffpunkt ist ab 10.15 Uh
 r im Eingangsbereich des DB-Museums.\n\nDie Führung beginnt um 10.30 Uhr
 .\n\nAnmeldeschluss ist der 21. Juni 2022.\n\nDie Führung durch den Bere
 ich Sammlungen / Bibliothek des DB-Museums ist kostenlos.\n\nDie Höchstt
 eilnehmerzahl beträgt 15 Personen.\n\n\n\n\nAnmeldung per Anmeldeformula
 r - Download hier -  an Nürnberger Eisenbahnfreunde\, Raimund Scheder\,
  Rotbuchenstr. 22\, 90449 Nürnberg oder per Email an r.scheder@gmx.de\n\
 n\n\n\n\n\n\n\nSie erreichen das DB-Museum ab Hauptbahnhof und ab Plärre
 r mit der U 2 (U-Bahn Station Opernhaus und ca. 200 m Fußweg).\n\nBei Ru
 ̈ckfragen stehe ich Ihnen unter 0911 / 64 94 778 gerne zur Verfügung.\n
 \nWir freuen uns auf eine zahlreiche Teilnahme. Gäste sind zu dieser Ver
 anstaltung sehr herzlich willkommen.\n\nMit freundlichen Grüßen\n\n\n\n
 \nRaimund Scheder\n1. Vorsitzender\n\n\n\n\n\n\n\n\n\n
CATEGORIES:Exkursion
LOCATION:DB Museum Nürnberg\, Lessingstrasse 6\, Nürnberg\, Bayern\, 9044
 3\, Deutschland\, 
GEO:49.445503;11.074361
X-APPLE-STRUCTURED-LOCATION;VALUE=URI;X-ADDRESS=Lessingstrasse 6\, Nürnber
 g\, Bayern\, 90443\, Deutschland;X-APPLE-RADIUS=100;X-TITLE=DB Museum Nür
 nberg:geo:49.445503,11.074361
END:VEVENT
BEGIN:VTIMEZONE
TZID:Europe/Berlin
X-LIC-LOCATION:Europe/Berlin
BEGIN:DAYLIGHT
DTSTART:20220327T030000
TZOFFSETFROM:+0100
TZOFFSETTO:+0200
TZNAME:CEST
END:DAYLIGHT
END:VTIMEZONE
END:VCALENDAR