BEGIN:VCALENDAR
VERSION:2.0
PRODID:-//wp-events-plugin.com//7.2.3.1//EN
TZID:Europe/Berlin
X-WR-TIMEZONE:Europe/Berlin
BEGIN:VEVENT
UID:212@nef.franks-bahnseiten.de
DTSTART;TZID=Europe/Berlin:20230311T140000
DTEND;TZID=Europe/Berlin:20230311T163000
DTSTAMP:20230121T164423Z
URL:https://nef.franks-bahnseiten.de/events/jahreshauptversammlung/
SUMMARY:Jahreshauptversammlung
DESCRIPTION:Es erfolgt eine gesonderte Einladung.
CATEGORIES:Mitgliederversammlung
LOCATION:Vereinslokal\, Germersheimer Strasse 86\, Nürnberg\, Bayern\, 904
 69\, Deutschland\, 
GEO:49.403405;11.099292
X-APPLE-STRUCTURED-LOCATION;VALUE=URI;X-ADDRESS=Germersheimer Strasse 86\, 
 Nürnberg\, Bayern\, 90469\, Deutschland;X-APPLE-RADIUS=100;X-TITLE=Verein
 slokal:geo:49.403405,11.099292
END:VEVENT
BEGIN:VTIMEZONE
TZID:Europe/Berlin
X-LIC-LOCATION:Europe/Berlin
BEGIN:STANDARD
DTSTART:20221030T020000
TZOFFSETFROM:+0200
TZOFFSETTO:+0100
TZNAME:CET
END:STANDARD
END:VTIMEZONE
END:VCALENDAR